BEGIN:VCALENDAR
VERSION:2.0
PRODID:-//Liga Portuguesa Contra a Epilepsia - ECPv6.15.12.2//NONSGML v1.0//EN
CALSCALE:GREGORIAN
METHOD:PUBLISH
X-ORIGINAL-URL:https://epilepsia.pt
X-WR-CALDESC:Eventos para Liga Portuguesa Contra a Epilepsia
REFRESH-INTERVAL;VALUE=DURATION:PT1H
X-Robots-Tag:noindex
X-PUBLISHED-TTL:PT1H
BEGIN:VTIMEZONE
TZID:UTC
BEGIN:STANDARD
TZOFFSETFROM:+0000
TZOFFSETTO:+0000
TZNAME:UTC
DTSTART:20220101T000000
END:STANDARD
END:VTIMEZONE
BEGIN:VEVENT
DTSTART;TZID=UTC:20240607T153000
DTEND;TZID=UTC:20240607T173000
DTSTAMP:20260421T081548
CREATED:20240605T155527Z
LAST-MODIFIED:20240605T160244Z
UID:5405-1717774200-1717781400@epilepsia.pt
SUMMARY:Diálogos sobre o Cérebro: por uma melhor comunicação entre investigadores\, doentes e sociedade
DESCRIPTION:A comunicação de ciência é uma poderosa ferramenta. Serve para democratizar o acesso à ciência\, quebrar mitos e aproximar investigadores de associações de doentes e da sociedade em geral\, funcionando como um gerador de esperança. \nDesta forma\, gostaríamos de vos convidar para um debate que decorrerá no dia 7 de junho às 15:30\, no Grande Auditório João Lobo Antunes (ou através de zoom) intitulado: \n“Diálogos sobre o Cérebro: por uma melhor comunicação entre investigadores\, doentes e sociedade”. \nDuração da sessão: 75 minutos \nIdioma: Português\nLocalização: Instituto de Medicina Molecular João Lobo Antunes / Grande Auditório \nTransmissão: Via zoom (https://videoconf-colibri.zoom.us/j/95153254182) ou por Live no nosso canal de Youtube. \nModeração: Luisa Lopes (investigadora do iMM\, professora na FMUL e comunicadora de ciência – Público / podcasts) \nParticipação Especial: Fala-me neuro\, Liga Portuguesa Contra a Epilepsia\, Associação Dravet Portugal\, Associação de Esclerose Tuberosa
URL:https://epilepsia.pt/evento/dialogos-sobre-o-cerebro-por-uma-melhor-comunicacao-entre-investigadores-doentes-e-sociedade/
LOCATION:Instituto de Medicina Molecular João Lobo Antunes\, Avenida Professor Egas Moniz\, Lisboa\, Lisboa\, 1649-028\, Portugal
CATEGORIES:Evento
ATTACH;FMTTYPE=image/jpeg:https://epilepsia.pt/wp-content/uploads/2024/06/Untitled-design.jpg
END:VEVENT
BEGIN:VEVENT
DTSTART;TZID=UTC:20240516T080000
DTEND;TZID=UTC:20240517T170000
DTSTAMP:20260421T081548
CREATED:20240205T142551Z
LAST-MODIFIED:20240508T181035Z
UID:5267-1715846400-1715965200@epilepsia.pt
SUMMARY:Congresso Anual da Sociedade Portuguesa de Neuropediatria (SPNP)
DESCRIPTION:  \nA Sociedade Portuguesa de Neuropediatria (SPNP) vai realizar o seu congresso anual nos dias 16 e 17 de Maio de 2024. Este congresso terá lugar no Casino Park Hotel\, na cidade do Funchal. Este ano\, dando corpo aos múltiplos avanços que têm surgido nesta área\, o tema do congresso será “Neuropediatria: Alargando fronteiras”\, procurando abrir discussão sobre os novos desafios no diagnóstico e tratamento das doenças neurológicas em idade pediátrica. \nPagina do evento:\nhttps://norahsevents.eventkey.pt/geral/paginas.aspx?cod=678\nFaça a sua inscrição em:\nhttps://norahsevents.eventkey.pt/geral/inseririnscricao.aspx?evento=168&formulario=297\nOs resumos devem ser submetidos até 8 de abril em:\nhttps://norahsevents.eventkey.pt/geral/inserirresumo.aspx?evento=168&formulario=298\nConheça o Programa.
URL:https://epilepsia.pt/evento/congresso-anual-da-sociedade-portuguesa-de-neuropediatria-spnp/
LOCATION:Casino Park Hotel\, Funchal
CATEGORIES:Evento
ATTACH;FMTTYPE=image/png:https://epilepsia.pt/wp-content/uploads/2024/02/cartaz2024_FINAL_compressed-1-1-e1707143129637.png
END:VEVENT
BEGIN:VEVENT
DTSTART;VALUE=DATE:20240315
DTEND;VALUE=DATE:20240317
DTSTAMP:20260421T081548
CREATED:20240115T143052Z
LAST-MODIFIED:20240115T143352Z
UID:5211-1710460800-1710633599@epilepsia.pt
SUMMARY:5th International Epilepsy Symposium
DESCRIPTION:The 5th International Epilepsy Symposium will take place from 15th to 16th March 2024 in Berlin\, Germany.\nWe would like to invite our international colleagues to join for interesting talks and workshops of epilepsy experts.\nIs it possible to publish the event on your website and/or advertise it in your newsletter? We would be very grateful.\nYou find more information and a flyer here.
URL:https://epilepsia.pt/evento/5th-international-epilepsy-symposium/
LOCATION:Berlin Epilepsy-Center Berlin-Brandenburg and Epilepsy-Center Bethel\, Berlin\, Alemanha
CATEGORIES:Evento
ATTACH;FMTTYPE=image/png:https://epilepsia.pt/wp-content/uploads/2024/01/Captura-de-ecra-2024-01-15-as-14.32.36.png
END:VEVENT
BEGIN:VEVENT
DTSTART;VALUE=DATE:20240509
DTEND;VALUE=DATE:20240512
DTSTAMP:20260421T081548
CREATED:20231222T141802Z
LAST-MODIFIED:20240410T110312Z
UID:5187-1715212800-1715471999@epilepsia.pt
SUMMARY:Reunião Anual SADE
DESCRIPTION:A Reunião Anual Luso-Espanhola SADE irá decorrer nos dias 9 a 11 de maio de 2024 no Palacio de Congresos de Ayamonte (Huelva)  tendo como tema principal “Aprendendo com os erros na epilepsia”. \nPrograma provisório \nEstá aberto um concurso de casos clínicos por internos de neurologia. A data de submissão é dia 20 de abril. Mais informação aqui
URL:https://epilepsia.pt/evento/reuniao-anual-sade/
CATEGORIES:Evento
ATTACH;FMTTYPE=image/png:https://epilepsia.pt/wp-content/uploads/2023/12/Captura-de-ecra-2023-12-22-134830.png
END:VEVENT
BEGIN:VEVENT
DTSTART;TZID=UTC:20240308T080000
DTEND;TZID=UTC:20240309T183000
DTSTAMP:20260421T081548
CREATED:20231103T153605Z
LAST-MODIFIED:20240301T171222Z
UID:5151-1709884800-1710009000@epilepsia.pt
SUMMARY:36º Encontro Nacional de Epileptologia
DESCRIPTION:O 36º Encontro Nacional de Epileptologia (ENE) irá decorrer nos dias 8 e 9 de março de 2024 no Hotel Dona Inês\, na cidade de Coimbrra\,  tendo como tema principal “Epilepsia e Cognição”.\n\n\nO programa do 36º ENE irá abranger temas como cognição e encefalopatias epilépticas e do desenvolvimento\, relação bidireccional entre a epilepsia e doenças neurodegenerativas ou repercussão da medicação anti-crises realizada durante a gravidez na cognição das crianças. \nPROGRAMA \nA data limite para o envio de resumos será o dia 31 de janeiro. \nPoderá fazer a sua inscrição e submeter os resumos na plataforma do evento  através dos seguintes links: \n\nLink página:  https://norahsevents.eventkey.pt/36ENE.aspx \nLink inscrição: https://norahsevents.eventkey.pt/geral/36ene.insc.aspx \nLink submissão de resumos: https://norahsevents.eventkey.pt/geral/36ene.resumo.aspx \n\n  \n\n\n\n 
URL:https://epilepsia.pt/evento/36o-encontro-nacional-de-epileptologia/
CATEGORIES:Evento
ATTACH;FMTTYPE=image/jpeg:https://epilepsia.pt/wp-content/uploads/2023/11/Cartaz_36ENE.jpg
END:VEVENT
BEGIN:VEVENT
DTSTART;TZID=UTC:20240305T093000
DTEND;TZID=UTC:20240305T130000
DTSTAMP:20260421T081548
CREATED:20260112T102637Z
LAST-MODIFIED:20260112T103137Z
UID:5894-1709631000-1709643600@epilepsia.pt
SUMMARY:Reunião Nacional dos Enfermeiros em Epilepsia 2026
DESCRIPTION:No dia 5 de Março de 2026\, irá decorrer\, a Reunião Nacional dos Enfermeiros em Epilepsia\, inserida no 37º Encontro Nacional Epileptologia. \n\n\nNa reunião estarão presentes enfermeiros que trabalham na área da epilepsia\, de várias regiões do país\, que partilharão experiências sobre os cuidados de Enfermagem à Pessoa com Epilepsia nas suas diferentes fases de vida\, em meio hospitalar e na comunidade. \n\nInscrição obrigatória em:\n\nInscrições: https://eventos.norahsevents.pt/geral/37ENE_inseririnscricao.aspx \nPrograma: programaENFERMEIROSepilepsia26 \n\n\n\n  \n 
URL:https://epilepsia.pt/evento/reuniao-nacional-dos-enfermeiros-em-epilepsia-2026/
LOCATION:Porto Palácio Hotel
CATEGORIES:Evento
ATTACH;FMTTYPE=image/jpeg:https://epilepsia.pt/wp-content/uploads/2026/01/Reuniao-Nacional-dos-Enfermeiros-em-Epilepsia-2026.jpg
END:VEVENT
BEGIN:VEVENT
DTSTART;TZID=UTC:20231108T093000
DTEND;TZID=UTC:20231108T173000
DTSTAMP:20260421T081548
CREATED:20230928T115119Z
LAST-MODIFIED:20231010T161820Z
UID:5108-1699435800-1699464600@epilepsia.pt
SUMMARY:28º FÓRUM EPILEPSIA REFRATÁRIA
DESCRIPTION:  \nCaros Colegas\, \nVoltaremos a ter o nosso Fórum no dia 8 de novembro de 2023\, em paralelo com o Congresso de Neurologia 2023 no Sheraton Hotel Porto. Agradecemos à Direção da Sociedade Portuguesa de Neurologia esta oportunidade. (https://www.spneurologia.com/evento/congresso-de-neurologia-2023-hot-topics-2023/452) \nPor razões logísticas\, é necessário saber atempadamente o número de participantes de cada centro. Agradeço que os coordenadores dos vários centros nos enviem esta informação até dia 8 de outubro e ainda que cada participante se inscreva aqui. \nTal como combinado no Fórum anterior\, esta será uma reunião mais genérica (Fórum de Epilepsia Refratária) onde poderão ser discutidos casos clínicos de doentes com epilepsia refratária cirúrgicos e/ou não cirúrgicos. Mantemos a ideia de trazer sempre que possível o resultado do seguimento de doentes apresentados em reuniões anteriores. \nCada centro terá uma hora para apresentar e discutir os seus casos. Segue em anexo o cartaz e o programa previamente aprovado pelos coordenadores dos 5 Centros de Referência.\nComo tem sido habitual nas reuniões de Outono\, as apresentações e a discussão serão em português e cada caso deve terminar com um slide resumo estruturado \nUm abraço a todos\, \nAté breve! \nRui Rangel \nCHUsA \n  \nPROGRAMA
URL:https://epilepsia.pt/evento/28o-forum-epilepsia-refrataria/
LOCATION:SHERATON PORTO HOTEL\, SHERATON PORTO HOTEL\, Porto
CATEGORIES:Evento
ATTACH;FMTTYPE=image/jpeg:https://epilepsia.pt/wp-content/uploads/2023/09/28FORUM_EPILEPSIAS_REFRATARIAS-scaled.jpg
ORGANIZER;CN="Sociedade Portuguesa de Neurologia":MAILTO:sec.spn@gmail.com
END:VEVENT
BEGIN:VEVENT
DTSTART;TZID=UTC:20231103T100000
DTEND;TZID=UTC:20231103T170000
DTSTAMP:20260421T081548
CREATED:20231102T164136Z
LAST-MODIFIED:20231102T164136Z
UID:5147-1699005600-1699030800@epilepsia.pt
SUMMARY:14.ª edição do Angelini University Award 22/23
DESCRIPTION: 
URL:https://epilepsia.pt/evento/14-a-edicao-do-angelini-university-award-22-23/
LOCATION:Pavilhão do Conhecimento\, Lisboa
CATEGORIES:Evento
ATTACH;FMTTYPE=image/png:https://epilepsia.pt/wp-content/uploads/2023/11/Design-sem-nome-12.png
END:VEVENT
BEGIN:VEVENT
DTSTART;TZID=UTC:20231013T100000
DTEND;TZID=UTC:20231013T213000
DTSTAMP:20260421T081548
CREATED:20230918T153751Z
LAST-MODIFIED:20231010T164020Z
UID:5091-1697191200-1697232600@epilepsia.pt
SUMMARY:26º Curso de Formação Pós-Graduada em NeuroPediatria
DESCRIPTION:Irá decorrer no próximo dia 13 de Outubro\, no Hotel Holiday Inn Porto-Gaia\, o 26º Curso de Formação Pós-Graduada em NeuroPediatria. Faça aqui o download do programa e da ficha de inscrição. \nConsulte aqui o Programa. \nDESTINATÁRIOS: \nInternos de Neurologia\, Neuroradiologia\, Pediatria. Formandos do CEE de Neuropediatria\, Neuropediatras\, Pediatras\, Neurologistas e especialistas em MGF. \nFaça a sua inscrição em: spnp.neuropediatria@gmail.com
URL:https://epilepsia.pt/evento/26o-curso-de-formacao-pos-graduada-em-neuropediatria/
LOCATION:Hotel Holiday Inn Porto-Gaia
CATEGORIES:Evento
ATTACH;FMTTYPE=image/png:https://epilepsia.pt/wp-content/uploads/2023/09/Untitled-design-2.png
END:VEVENT
BEGIN:VEVENT
DTSTART;TZID=UTC:20231004T080000
DTEND;TZID=UTC:20231019T170000
DTSTAMP:20260421T081548
CREATED:20230510T095836Z
LAST-MODIFIED:20230510T100818Z
UID:5039-1696406400-1697734800@epilepsia.pt
SUMMARY:16th Baltic Sea Summer School on Epilepsy (virtual)
DESCRIPTION:5 afternoons between October 4th and 19th\, 2023\nA 16ª edição da conhecida Baltic Sea Summer School on Epilepsy (BSSSE) decorrerá em formato virtual nas tardes dos dias 4\, 6\, 11\, 18 e 19 de Outubro de 2023. \nO curso será dirigido a jovens médicos e investigadores (idade geralmente até 40 anos) com especial interesse clínico ou científico em Epilepsia. \nSerão abordados temas em electroencefalografia\, imagiologia\, neuropatologia\, farmacoterapia\, estado de mal epiléptico\, aura epiléptica\, epilepsia\, compromisso cognitivo\, factores subjectivos no tratamento da epilepsia \nO curso encontra-se limitado a 40 participantes que desenvolverão trabalho em 4 grupos que serão orientados por um\nrespectivo tutor. \n\nRequisitos:\nFluência na língua inglesa. \nInscrição:\nA participação é gratuita e os participantes serão aceitos em um primeiro a chegar – primeiro a ser servido. O prazo de inscrição é 31 de agosto de 2023. A inscrição deve incluir um formulário de inscrição e um currículo mais uma apresentação de uma frase a ser entregue aos tutores. \n\nCertificados:\nOs certificados só serão entregues aos participantes que estiverem presentes em todas as webtorials e que preenchem a avaliação obrigatória do curso. \nPara informações e candidaturas contacte:\nPetra Novotny\, escritório da BSSSE: petra.novotny@wolfstiftung.org \nPrazo para inscrições: 31 de agosto de 2023
URL:https://epilepsia.pt/evento/16th-baltic-sea-summer-school-on-epilepsy-virtual/
CATEGORIES:Evento
ATTACH;FMTTYPE=image/png:https://epilepsia.pt/wp-content/uploads/2023/05/02-FEVEREIRO-LPCE-RETANGULO.png
END:VEVENT
BEGIN:VEVENT
DTSTART;VALUE=DATE:20230518
DTEND;VALUE=DATE:20230521
DTSTAMP:20260421T081548
CREATED:20230330T125041Z
LAST-MODIFIED:20230330T125547Z
UID:4367-1684447200-1684619999@epilepsia.pt
SUMMARY:16º Congresso da Sociedade Portuguesa de Neuropediatria
DESCRIPTION:A Sociedade Portuguesa de Neuropediatria (SPNP) vai realizar o seu congresso anual nos dias 19 e 20 de maio de 2022. Este congresso terá lugar no Casino da Figueira da Foz. Este ano\, dando corpo aos múltiplos avanços que têm surgido nesta área\, o tema do congresso será “Interdisciplinaridade em Neuropediatria”\, procurando aproximar os múltiplos domínios do conhecimento médico que fazem do cuidado da criança com doença neurológica um desafio diário.
URL:https://epilepsia.pt/evento/16o-congresso-da-sociedade-portuguesa-de-neuropediatria-2/
CATEGORIES:Evento
ATTACH;FMTTYPE=image/jpeg:https://epilepsia.pt/wp-content/uploads/2022/03/2022_NEUROPEDIATRIA-scaled.jpg
END:VEVENT
BEGIN:VEVENT
DTSTART;VALUE=DATE:20230310
DTEND;VALUE=DATE:20230312
DTSTAMP:20260421T081548
CREATED:20221108T120333Z
LAST-MODIFIED:20230309T120105Z
UID:4634-1678406400-1678579199@epilepsia.pt
SUMMARY:35º Encontro Nacional de Epileptologia
DESCRIPTION:O 35º Encontro Nacional de Epileptologia (ENE) irá decorrer nos dias 10 e 11 de março de 2023 no Hotel Olissippo Oriente\, na cidade de Lisboa\,  tendo como tema principal “Epilepsia\, Inflamação e Autoimunidade”. \nEste encontro irá abranger temas como epilepsia e inflamação do sistema nervoso central\, epilepsia autoimune\, epilepsia e doenças sistémicas ou NORSE/FIRES\, e respetivos tratamentos. \nA data limite para o envio dos resumos é  30 de de Janeiro de 2023. \nConsulte aqui o programa final. \nSite Geral do evento:  https://norahsevents.eventkey.pt/35ENE.aspx \nSubmissão de resumos: https://norahsevents.eventkey.pt/geral/inserirresumo.aspx?evento=135&formulario=234 \nInscrição Geral: https://norahsevents.eventkey.pt/geral/inseririnscricao.aspx?evento=135&formulario=233 \nLivro de resumos do 35 ENE: https://epilepsia.pt/wp-content/uploads/2023/03/livroRESUMOS_35ENE.cleaned.pdf \n 
URL:https://epilepsia.pt/evento/35o-encontro-nacional-de-epileptologia/
LOCATION:Hotel Olissippo Oriente\, Lisboa\, Portugal
CATEGORIES:Evento
ATTACH;FMTTYPE=image/png:https://epilepsia.pt/wp-content/uploads/2022/11/Design-sem-nome.png
END:VEVENT
END:VCALENDAR